BEGIN:VCALENDAR
VERSION:2.0
PRODID:icalendar-ruby
CALSCALE:GREGORIAN
BEGIN:VEVENT
DTSTAMP:20260423T140106Z
UID:45e2f0a3-2bb2-4bcd-9feb-fc39e4a7d3c1
DTSTART;TZID=Pacific/Auckland:20260425T123000
DTEND;TZID=Pacific/Auckland:20260425T130000
DESCRIPTION:Property ID# 606067
SUMMARY:Openhome for 1B/20 Oriental Terrace
END:VEVENT
END:VCALENDAR
