BEGIN:VCALENDAR
VERSION:2.0
PRODID:icalendar-ruby
CALSCALE:GREGORIAN
BEGIN:VEVENT
DTSTAMP:20260419T133017Z
UID:13f5e52c-cecd-4d8a-8c12-b75429d7b79f
DTSTART;TZID=Pacific/Auckland:20260418T110000
DTEND;TZID=Pacific/Auckland:20260418T113000
DESCRIPTION:Property ID# 602908
SUMMARY:Openhome for 427 Karaka Bay Road
END:VEVENT
END:VCALENDAR
