BEGIN:VCALENDAR
VERSION:2.0
PRODID:icalendar-ruby
CALSCALE:GREGORIAN
BEGIN:VEVENT
DTSTAMP:20260419T131016Z
UID:aff28a7e-c1ce-441f-83a0-4833488b7e1b
DTSTART;TZID=Pacific/Auckland:20260419T143000
DTEND;TZID=Pacific/Auckland:20260419T150000
DESCRIPTION:Property ID# 606844
SUMMARY:Openhome for 3G/21 Rugby Street
END:VEVENT
END:VCALENDAR
