BEGIN:VCALENDAR
VERSION:2.0
PRODID:icalendar-ruby
CALSCALE:GREGORIAN
BEGIN:VEVENT
DTSTAMP:20260419T131006Z
UID:8f85c182-fac7-4f50-8355-73be6e255fec
DTSTART;VALUE=DATE:20260508
DESCRIPTION:Property ID# 606844\, Locatoin: Harcourts\, 59 Vivian Street\, 
 Te Aro\, Wellington\, Time: 12:00PM
SUMMARY:Auction for 3G/21 Rugby Street
END:VEVENT
END:VCALENDAR
