BEGIN:VCALENDAR
VERSION:2.0
PRODID:icalendar-ruby
CALSCALE:GREGORIAN
BEGIN:VEVENT
DTSTAMP:20260425T165411Z
UID:be27277f-4588-4b08-98e3-6877d3621d17
DTSTART;VALUE=DATE:20230707
DESCRIPTION:Property ID# 558368\, Locatoin: Harcourts Wellington City Offic
 e (Unless Sold Prior)\, Time: 12:00PM
SUMMARY:Auction for 
END:VEVENT
END:VCALENDAR
