BEGIN:VCALENDAR
VERSION:2.0
PRODID:icalendar-ruby
CALSCALE:GREGORIAN
BEGIN:VEVENT
DTSTAMP:20260425T134157Z
UID:df560b8b-9c61-4ff9-933d-eac71fb22a9b
DTSTART;VALUE=DATE:20230628
DESCRIPTION:Property ID# 557909\, Locatoin: Harcourts Wellington City Offic
 e (Unless Sold Prior)\, Time: 12:00PM
SUMMARY:Auction for 
END:VEVENT
END:VCALENDAR
