BEGIN:VCALENDAR
VERSION:2.0
PRODID:icalendar-ruby
CALSCALE:GREGORIAN
BEGIN:VEVENT
DTSTAMP:20260425T134220Z
UID:1d3b773e-6f46-4393-a1ae-a06012c22b8f
DTSTART;VALUE=DATE:20221221
DESCRIPTION:Property ID# 548517\, Locatoin: Harcourts Wellington City Offic
 e (unless sold prior)\, Time: 3:00PM
SUMMARY:Auction for 
END:VEVENT
END:VCALENDAR
