BEGIN:VCALENDAR
VERSION:2.0
PRODID:icalendar-ruby
CALSCALE:GREGORIAN
BEGIN:VEVENT
DTSTAMP:20260425T164120Z
UID:4d11badb-f442-4653-b87c-b59f41dfc762
DTSTART;VALUE=DATE:20221026
DESCRIPTION:Property ID# 544604\, Locatoin: Harcourts Wellington City Offic
 e (unless sold prior)\, Time: 12:00PM
SUMMARY:Auction for 
END:VEVENT
END:VCALENDAR
