BEGIN:VCALENDAR
VERSION:2.0
PRODID:icalendar-ruby
CALSCALE:GREGORIAN
BEGIN:VEVENT
DTSTAMP:20260425T134019Z
UID:9c18d122-47e1-4935-b16b-070bab29b949
DTSTART;VALUE=DATE:20220713
DESCRIPTION:Property ID# 538607\, Locatoin: Harcourts Wellington City Offic
 e\, Time: 12:00PM
SUMMARY:Auction for 
END:VEVENT
END:VCALENDAR
