BEGIN:VCALENDAR
VERSION:2.0
PRODID:icalendar-ruby
CALSCALE:GREGORIAN
BEGIN:VEVENT
DTSTAMP:20260425T150638Z
UID:91c9ca09-8a41-443e-b456-c4dacf876c2f
DTSTART;VALUE=DATE:20220308
DESCRIPTION:Property ID# 529260\, Locatoin: 30 Bay Road\, Kilbirnie\, Time:
  12:00PM
SUMMARY:Auction for 
END:VEVENT
END:VCALENDAR
