BEGIN:VCALENDAR
VERSION:2.0
PRODID:icalendar-ruby
CALSCALE:GREGORIAN
BEGIN:VEVENT
DTSTAMP:20260425T150837Z
UID:a32448fb-586e-4c4b-af0f-3f667a5a8c25
DTSTART;VALUE=DATE:20211210
DESCRIPTION:Property ID# 523646\, Locatoin: 30 Bay Road\, Kilbirnie\, Time:
  11:00AM
SUMMARY:Auction for 
END:VEVENT
END:VCALENDAR
