BEGIN:VCALENDAR
VERSION:2.0
PRODID:icalendar-ruby
CALSCALE:GREGORIAN
BEGIN:VEVENT
DTSTAMP:20260421T105924Z
UID:f40c2999-4c88-4234-b346-e9038f9edb6e
DTSTART;VALUE=DATE:20211208
DESCRIPTION:Property ID# 522343\, Locatoin: Bayleys Auction Rooms 47 Camero
 n Road\, Time: 1:00PM
SUMMARY:Auction for 
END:VEVENT
END:VCALENDAR
