BEGIN:VCALENDAR
VERSION:2.0
PRODID:icalendar-ruby
CALSCALE:GREGORIAN
BEGIN:VEVENT
DTSTAMP:20260423T085001Z
UID:938e888f-90da-4c2b-ae23-27467b24e757
DTSTART;VALUE=DATE:20211027
DESCRIPTION:Property ID# 519394\, Locatoin: 9-11 Kings Cres\, Lower Hutt\, 
 Time: 12:00PM
SUMMARY:Auction for 
END:VEVENT
END:VCALENDAR
