BEGIN:VCALENDAR
VERSION:2.0
PRODID:icalendar-ruby
CALSCALE:GREGORIAN
BEGIN:VEVENT
DTSTAMP:20260425T151129Z
UID:2048e0fb-5a90-4387-88f0-ae7caa7eb8f2
DTSTART;VALUE=DATE:20211020
DESCRIPTION:Property ID# 518336\, Locatoin: 30 Bay Road\, Kilbirnie\, Time:
  12:00PM
SUMMARY:Auction for 
END:VEVENT
END:VCALENDAR
