BEGIN:VCALENDAR
VERSION:2.0
PRODID:icalendar-ruby
CALSCALE:GREGORIAN
BEGIN:VEVENT
DTSTAMP:20260419T144344Z
UID:f21ba90a-895e-4222-99f0-1ff82fea6ecc
DTSTART;VALUE=DATE:20210930
DESCRIPTION:Property ID# 516598\, Locatoin: Harcourts Paraparaumu from 12no
 on\, Time: 12:00PM
SUMMARY:Auction for 
END:VEVENT
END:VCALENDAR
