BEGIN:VCALENDAR
VERSION:2.0
PRODID:icalendar-ruby
CALSCALE:GREGORIAN
BEGIN:VEVENT
DTSTAMP:20260425T151023Z
UID:5c644263-6fd1-4f41-beb2-966b2f642888
DTSTART;VALUE=DATE:20210610
DESCRIPTION:Property ID# 510372\, Locatoin: 12 noon Thursday 10th of June a
 t 30 Bay Road\, Kilbirnie\, Time: 12:00PM
SUMMARY:Auction for 
END:VEVENT
END:VCALENDAR
