BEGIN:VCALENDAR
VERSION:2.0
PRODID:icalendar-ruby
CALSCALE:GREGORIAN
BEGIN:VEVENT
DTSTAMP:20260425T152302Z
UID:a708b5bb-2a23-4e35-a253-1dc1144916f6
DTSTART;VALUE=DATE:20210429
DESCRIPTION:Property ID# 507517\, Locatoin: 30 Bay Road\, Kilbirnie\, Time:
  12:00PM
SUMMARY:Auction for 
END:VEVENT
END:VCALENDAR
