BEGIN:VCALENDAR
VERSION:2.0
PRODID:icalendar-ruby
CALSCALE:GREGORIAN
BEGIN:VEVENT
DTSTAMP:20260422T143238Z
UID:e1cb2454-0405-48a6-b7a6-52c6302fc4ab
DTSTART;VALUE=DATE:20201203
DESCRIPTION:Property ID# 495409\, Locatoin: 8 Kent Terrace\, Wellington\, T
 ime: 1:00PM
SUMMARY:Auction for 
END:VEVENT
END:VCALENDAR
