BEGIN:VCALENDAR
VERSION:2.0
PRODID:icalendar-ruby
CALSCALE:GREGORIAN
BEGIN:VEVENT
DTSTAMP:20260425T120536Z
UID:b1e30183-f875-491d-9594-6c2c7522d528
DTSTART;VALUE=DATE:20201119
DESCRIPTION:Property ID# 492835\, Locatoin: 30 Bay Road\, Kilbirnie.\, Time
 : 12:00PM
SUMMARY:Auction for 
END:VEVENT
END:VCALENDAR
