BEGIN:VCALENDAR
VERSION:2.0
PRODID:icalendar-ruby
CALSCALE:GREGORIAN
BEGIN:VEVENT
DTSTAMP:20260420T150139Z
UID:8cecf195-79fd-4fa9-ad6a-32aecd6ec3f8
DTSTART;VALUE=DATE:20200813
DESCRIPTION:Property ID# 485663\, Locatoin: 8 Kent Terrace\, Wellington\, T
 ime: 1:00PM
SUMMARY:Auction for 
END:VEVENT
END:VCALENDAR
